{"text_format":"1","workbook":"xlsx","n_sheets":5,"sheets":["Übersicht","Fighting","Duo","Newaza","Codestable"],"not_rendered":{"charts":0,"images":0,"macros":0,"external_links":0,"defined_names":8,"comments":0,"pivot_tables":0},"unopened":[],"bounds":{"document_bytes":16777216,"sheet_cells":100000,"rows_first":2000,"rows_last":500,"rows_between":2000,"halvings":0,"cell_chars":16384,"cell_head_chars":4096},"cells_cut":0,"cells_raw":0,"read":"whole","date_system":"1900"}

{"sheet":"Übersicht","index":0,"n_rows":25,"n_cols":4,"rows_kept":25,"cut":false,"hidden":false,"merged":[[17,1,17,4],[24,1,29,4]]}
[]
[null,"Vereinsmeldung über Ju-Jutu-Web.de"]
[]
[]
[null,"Verein"]
[]
[]
[]
[]
[null,"Veranstaltung",null,"Landesmeisterschaften 2018 JJ Sachsen- Anhalt e.V."]
[]
[]
[]
[]
[]
[]
[]
[null,"Die Meldedatei wird im gleichen Verzeichnis erstellt, in der sich diese Exceldatei befindet.\nDer Name der Datei lautet <Veranstaltung>_<Verein>.jjw"]
[]
[]
[]
[]
[]
[]
[null,"Hinweis: \nBitte verwenden Sie das Excel nur im vorgesehenen Zustand und löschen Sie keine Zelle oder fügen Sie auch keine hinzu. Das Excel hat verschichdene Formeln und Makros, die es zur Bearbeitung benötigt. Sollten Sie Änderungen vornehmen, so kann es sein, dass Ihre Meldung am Server abgewiesen wird oder fehlerhaft ist. Dafür trägt ju-jutsu-web.de nicht das Risiko. "]

{"sheet":"Fighting","index":1,"n_rows":51,"n_cols":7,"rows_kept":51,"cut":false,"hidden":false,"merged":[]}
["Nr.","Name","Vorname","Jahrgang","Gewicht","Verein","Geschlecht"]
[1,null,null,null,null,{"$f":"IF(B2<>\"\",IF(Übersicht!$D$5=\"\",IF(Übersicht!$D$6=\"\",\"\",Übersicht!$D$6),Übersicht!$D$5),\"\")","v":""}]
[2,null,null,null,null,{"$f":"IF(B3<>\"\",IF(Übersicht!$D$5=\"\",IF(Übersicht!$D$6=\"\",\"\",Übersicht!$D$6),Übersicht!$D$5),\"\")","v":""}]
[3,null,null,null,null,{"$f":"IF(B4<>\"\",IF(Übersicht!$D$5=\"\",IF(Übersicht!$D$6=\"\",\"\",Übersicht!$D$6),Übersicht!$D$5),\"\")","v":""}]
[4,null,null,null,null,{"$f":"IF(B5<>\"\",IF(Übersicht!$D$5=\"\",IF(Übersicht!$D$6=\"\",\"\",Übersicht!$D$6),Übersicht!$D$5),\"\")","v":""}]
[5,null,null,null,null,{"$f":"IF(B6<>\"\",IF(Übersicht!$D$5=\"\",IF(Übersicht!$D$6=\"\",\"\",Übersicht!$D$6),Übersicht!$D$5),\"\")","v":""}]
[6,null,null,null,null,{"$f":"IF(B7<>\"\",IF(Übersicht!$D$5=\"\",IF(Übersicht!$D$6=\"\",\"\",Übersicht!$D$6),Übersicht!$D$5),\"\")","v":""}]
[7,null,null,null,null,{"$f":"IF(B8<>\"\",IF(Übersicht!$D$5=\"\",IF(Übersicht!$D$6=\"\",\"\",Übersicht!$D$6),Übersicht!$D$5),\"\")","v":""}]
[8,null,null,null,null,{"$f":"IF(B9<>\"\",IF(Übersicht!$D$5=\"\",IF(Übersicht!$D$6=\"\",\"\",Übersicht!$D$6),Übersicht!$D$5),\"\")","v":""}]
[9,null,null,null,null,{"$f":"IF(B10<>\"\",IF(Übersicht!$D$5=\"\",IF(Übersicht!$D$6=\"\",\"\",Übersicht!$D$6),Übersicht!$D$5),\"\")","v":""}]
[10,null,null,null,null,{"$f":"IF(B11<>\"\",IF(Übersicht!$D$5=\"\",IF(Übersicht!$D$6=\"\",\"\",Übersicht!$D$6),Übersicht!$D$5),\"\")","v":""}]
[11,null,null,null,null,{"$f":"IF(B12<>\"\",IF(Übersicht!$D$5=\"\",IF(Übersicht!$D$6=\"\",\"\",Übersicht!$D$6),Übersicht!$D$5),\"\")","v":""}]
[12,null,null,null,null,{"$f":"IF(B13<>\"\",IF(Übersicht!$D$5=\"\",IF(Übersicht!$D$6=\"\",\"\",Übersicht!$D$6),Übersicht!$D$5),\"\")","v":""}]
[13,null,null,null,null,{"$f":"IF(B14<>\"\",IF(Übersicht!$D$5=\"\",IF(Übersicht!$D$6=\"\",\"\",Übersicht!$D$6),Übersicht!$D$5),\"\")","v":""}]
[14,null,null,null,null,{"$f":"IF(B15<>\"\",IF(Übersicht!$D$5=\"\",IF(Übersicht!$D$6=\"\",\"\",Übersicht!$D$6),Übersicht!$D$5),\"\")","v":""}]
[15,null,null,null,null,{"$f":"IF(B16<>\"\",IF(Übersicht!$D$5=\"\",IF(Übersicht!$D$6=\"\",\"\",Übersicht!$D$6),Übersicht!$D$5),\"\")","v":""}]
[16,null,null,null,null,{"$f":"IF(B17<>\"\",IF(Übersicht!$D$5=\"\",IF(Übersicht!$D$6=\"\",\"\",Übersicht!$D$6),Übersicht!$D$5),\"\")","v":""}]
[17,null,null,null,null,{"$f":"IF(B18<>\"\",IF(Übersicht!$D$5=\"\",IF(Übersicht!$D$6=\"\",\"\",Übersicht!$D$6),Übersicht!$D$5),\"\")","v":""}]
[18,null,null,null,null,{"$f":"IF(B19<>\"\",IF(Übersicht!$D$5=\"\",IF(Übersicht!$D$6=\"\",\"\",Übersicht!$D$6),Übersicht!$D$5),\"\")","v":""}]
[19,null,null,null,null,{"$f":"IF(B20<>\"\",IF(Übersicht!$D$5=\"\",IF(Übersicht!$D$6=\"\",\"\",Übersicht!$D$6),Übersicht!$D$5),\"\")","v":""}]
[20,null,null,null,null,{"$f":"IF(B21<>\"\",IF(Übersicht!$D$5=\"\",IF(Übersicht!$D$6=\"\",\"\",Übersicht!$D$6),Übersicht!$D$5),\"\")","v":""}]
[21,null,null,null,null,{"$f":"IF(B22<>\"\",IF(Übersicht!$D$5=\"\",IF(Übersicht!$D$6=\"\",\"\",Übersicht!$D$6),Übersicht!$D$5),\"\")","v":""}]
[22,null,null,null,null,{"$f":"IF(B23<>\"\",IF(Übersicht!$D$5=\"\",IF(Übersicht!$D$6=\"\",\"\",Übersicht!$D$6),Übersicht!$D$5),\"\")","v":""}]
[23,null,null,null,null,{"$f":"IF(B24<>\"\",IF(Übersicht!$D$5=\"\",IF(Übersicht!$D$6=\"\",\"\",Übersicht!$D$6),Übersicht!$D$5),\"\")","v":""}]
[24,null,null,null,null,{"$f":"IF(B25<>\"\",IF(Übersicht!$D$5=\"\",IF(Übersicht!$D$6=\"\",\"\",Übersicht!$D$6),Übersicht!$D$5),\"\")","v":""}]
[25,null,null,null,null,{"$f":"IF(B26<>\"\",IF(Übersicht!$D$5=\"\",IF(Übersicht!$D$6=\"\",\"\",Übersicht!$D$6),Übersicht!$D$5),\"\")","v":""}]
[26,null,null,null,null,{"$f":"IF(B27<>\"\",IF(Übersicht!$D$5=\"\",IF(Übersicht!$D$6=\"\",\"\",Übersicht!$D$6),Übersicht!$D$5),\"\")","v":""}]
[27,null,null,null,null,{"$f":"IF(B28<>\"\",IF(Übersicht!$D$5=\"\",IF(Übersicht!$D$6=\"\",\"\",Übersicht!$D$6),Übersicht!$D$5),\"\")","v":""}]
[28,null,null,null,null,{"$f":"IF(B29<>\"\",IF(Übersicht!$D$5=\"\",IF(Übersicht!$D$6=\"\",\"\",Übersicht!$D$6),Übersicht!$D$5),\"\")","v":""}]
[29,null,null,null,null,{"$f":"IF(B30<>\"\",IF(Übersicht!$D$5=\"\",IF(Übersicht!$D$6=\"\",\"\",Übersicht!$D$6),Übersicht!$D$5),\"\")","v":""}]
[30,null,null,null,null,{"$f":"IF(B31<>\"\",IF(Übersicht!$D$5=\"\",IF(Übersicht!$D$6=\"\",\"\",Übersicht!$D$6),Übersicht!$D$5),\"\")","v":""}]
[31,null,null,null,null,{"$f":"IF(B32<>\"\",IF(Übersicht!$D$5=\"\",IF(Übersicht!$D$6=\"\",\"\",Übersicht!$D$6),Übersicht!$D$5),\"\")","v":""}]
[32,null,null,null,null,{"$f":"IF(B33<>\"\",IF(Übersicht!$D$5=\"\",IF(Übersicht!$D$6=\"\",\"\",Übersicht!$D$6),Übersicht!$D$5),\"\")","v":""}]
[33,null,null,null,null,{"$f":"IF(B34<>\"\",IF(Übersicht!$D$5=\"\",IF(Übersicht!$D$6=\"\",\"\",Übersicht!$D$6),Übersicht!$D$5),\"\")","v":""}]
[34,null,null,null,null,{"$f":"IF(B35<>\"\",IF(Übersicht!$D$5=\"\",IF(Übersicht!$D$6=\"\",\"\",Übersicht!$D$6),Übersicht!$D$5),\"\")","v":""}]
[35,null,null,null,null,{"$f":"IF(B36<>\"\",IF(Übersicht!$D$5=\"\",IF(Übersicht!$D$6=\"\",\"\",Übersicht!$D$6),Übersicht!$D$5),\"\")","v":""}]
[36,null,null,null,null,{"$f":"IF(B37<>\"\",IF(Übersicht!$D$5=\"\",IF(Übersicht!$D$6=\"\",\"\",Übersicht!$D$6),Übersicht!$D$5),\"\")","v":""}]
[37,null,null,null,null,{"$f":"IF(B38<>\"\",IF(Übersicht!$D$5=\"\",IF(Übersicht!$D$6=\"\",\"\",Übersicht!$D$6),Übersicht!$D$5),\"\")","v":""}]
[38,null,null,null,null,{"$f":"IF(B39<>\"\",IF(Übersicht!$D$5=\"\",IF(Übersicht!$D$6=\"\",\"\",Übersicht!$D$6),Übersicht!$D$5),\"\")","v":""}]
[39,null,null,null,null,{"$f":"IF(B40<>\"\",IF(Übersicht!$D$5=\"\",IF(Übersicht!$D$6=\"\",\"\",Übersicht!$D$6),Übersicht!$D$5),\"\")","v":""}]
[40,null,null,null,null,{"$f":"IF(B41<>\"\",IF(Übersicht!$D$5=\"\",IF(Übersicht!$D$6=\"\",\"\",Übersicht!$D$6),Übersicht!$D$5),\"\")","v":""}]
[41,null,null,null,null,{"$f":"IF(B42<>\"\",IF(Übersicht!$D$5=\"\",IF(Übersicht!$D$6=\"\",\"\",Übersicht!$D$6),Übersicht!$D$5),\"\")","v":""}]
[42,null,null,null,null,{"$f":"IF(B43<>\"\",IF(Übersicht!$D$5=\"\",IF(Übersicht!$D$6=\"\",\"\",Übersicht!$D$6),Übersicht!$D$5),\"\")","v":""}]
[43,null,null,null,null,{"$f":"IF(B44<>\"\",IF(Übersicht!$D$5=\"\",IF(Übersicht!$D$6=\"\",\"\",Übersicht!$D$6),Übersicht!$D$5),\"\")","v":""}]
[44,null,null,null,null,{"$f":"IF(B45<>\"\",IF(Übersicht!$D$5=\"\",IF(Übersicht!$D$6=\"\",\"\",Übersicht!$D$6),Übersicht!$D$5),\"\")","v":""}]
[45,null,null,null,null,{"$f":"IF(B46<>\"\",IF(Übersicht!$D$5=\"\",IF(Übersicht!$D$6=\"\",\"\",Übersicht!$D$6),Übersicht!$D$5),\"\")","v":""}]
[46,null,null,null,null,{"$f":"IF(B47<>\"\",IF(Übersicht!$D$5=\"\",IF(Übersicht!$D$6=\"\",\"\",Übersicht!$D$6),Übersicht!$D$5),\"\")","v":""}]
[47,null,null,null,null,{"$f":"IF(B48<>\"\",IF(Übersicht!$D$5=\"\",IF(Übersicht!$D$6=\"\",\"\",Übersicht!$D$6),Übersicht!$D$5),\"\")","v":""}]
[48,null,null,null,null,{"$f":"IF(B49<>\"\",IF(Übersicht!$D$5=\"\",IF(Übersicht!$D$6=\"\",\"\",Übersicht!$D$6),Übersicht!$D$5),\"\")","v":""}]
[49,null,null,null,null,{"$f":"IF(B50<>\"\",IF(Übersicht!$D$5=\"\",IF(Übersicht!$D$6=\"\",\"\",Übersicht!$D$6),Übersicht!$D$5),\"\")","v":""}]
[50,null,null,null,null,{"$f":"IF(B51<>\"\",IF(Übersicht!$D$5=\"\",IF(Übersicht!$D$6=\"\",\"\",Übersicht!$D$6),Übersicht!$D$5),\"\")","v":""}]

{"sheet":"Duo","index":2,"n_rows":100,"n_cols":6,"rows_kept":100,"cut":false,"hidden":false,"merged":[[17,0,18,0],[19,0,20,0],[21,0,22,0],[23,0,24,0],[33,0,34,0],[97,4,98,4],[91,0,92,0],[91,5,92,5],[93,0,94,0],[93,5,94,5],[91,4,92,4],[93,4,94,4],[83,0,84,0],[83,5,84,5],[85,0,86,0],[85,5,86,5],[83,4,84,4],[85,4,86,4],[79,5,80,5],[81,0,82,0],[81,5,82,5],[79,4,80,4],[81,4,82,4],[75,0,76,0],[99,4,100,4],[99,0,100,0],[99,5,100,5],[95,5,96,5],[97,0,98,0],[97,5,98,5],[95,0,96,0],[95,4,96,4],[87,5,88,5],[89,0,90,0],[89,5,90,5],[87,4,88,4],[89,4,90,4],[87,0,88,0],[75,5,76,5],[77,0,78,0],[77,5,78,5],[75,4,76,4],[77,4,78,4],[79,0,80,0],[71,5,72,5],[73,0,74,0],[73,5,74,5],[71,4,72,4],[73,4,74,4],[67,0,68,0],[67,5,68,5],[69,0,70,0],[69,5,70,5],[67,4,68,4],[69,4,70,4],[71,0,72,0],[63,5,64,5],[65,0,66,0],[65,5,66,5],[63,4,64,4],[65,4,66,4],[59,0,60,0],[59,5,60,5],[61,0,62,0],[61,5,62,5],[59,4,60,4],[61,4,62,4],[63,0,64,0],[55,5,56,5],[57,0,58,0],[57,5,58,5],[55,4,56,4],[57,4,58,4],[51,0,52,0],[51,5,52,5],[53,0,54,0],[53,5,54,5],[51,4,52,4],[53,4,54,4],[55,0,56,0],[47,5,48,5],[49,0,50,0],[49,5,50,5],[47,4,48,4],[49,4,50,4],[43,0,44,0],[43,5,44,5],[45,0,46,0],[45,5,46,5],[43,4,44,4],[45,4,46,4],[47,0,48,0],[39,5,40,5],[41,0,42,0],[41,5,42,5],[39,4,40,4],[41,4,42,4],[35,0,36,0],[35,5,36,5],[37,0,38,0],[37,5,38,5],[35,4,36,4],[37,4,38,4],[39,0,40,0],[33,5,34,5],[27,4,28,4],[29,4,30,4],[31,4,32,4],[33,4,34,4],[25,0,26,0],[27,0,28,0],[31,5,32,5],[31,0,32,0],[29,5,30,5],[25,4,26,4],[29,0,30,0],[27,5,28,5],[1,0,2,0],[3,0,4,0],[5,0,6,0],[7,0,8,0],[9,0,10,0],[11,0,12,0],[13,0,14,0],[15,0,16,0],[17,5,18,5],[7,5,8,5],[9,5,10,5],[11,5,12,5],[19,5,20,5],[1,5,2,5],[3,5,4,5],[1,4,2,4],[21,5,22,5],[23,5,24,5],[25,5,26,5],[5,5,6,5],[13,5,14,5],[15,5,16,5],[23,4,24,4],[3,4,4,4],[11,4,12,4],[13,4,14,4],[15,4,16,4],[17,4,18,4],[19,4,20,4],[21,4,22,4],[5,4,6,4],[7,4,8,4],[9,4,10,4]]}
["Nr.","Name","Vorname","Jahrgang","Verein","Teamart"]
[1,null,null,null,{"$f":"IF(B2<>\"\",IF(Übersicht!$D$5=\"\",IF(Übersicht!$D$6=\"\",\"\",Übersicht!$D$6),Übersicht!$D$5),\"\")","v":""}]
[]
[2,null,null,null,{"$f":"IF(B4<>\"\",IF(Übersicht!$D$5=\"\",IF(Übersicht!$D$6=\"\",\"\",Übersicht!$D$6),Übersicht!$D$5),\"\")","v":""}]
[]
[3,null,null,null,{"$f":"IF(B6<>\"\",IF(Übersicht!$D$5=\"\",IF(Übersicht!$D$6=\"\",\"\",Übersicht!$D$6),Übersicht!$D$5),\"\")","v":""}]
[]
[4,null,null,null,{"$f":"IF(B8<>\"\",IF(Übersicht!$D$5=\"\",IF(Übersicht!$D$6=\"\",\"\",Übersicht!$D$6),Übersicht!$D$5),\"\")","v":""}]
[]
[5,null,null,null,{"$f":"IF(B10<>\"\",IF(Übersicht!$D$5=\"\",IF(Übersicht!$D$6=\"\",\"\",Übersicht!$D$6),Übersicht!$D$5),\"\")","v":""}]
[]
[6,null,null,null,{"$f":"IF(B12<>\"\",IF(Übersicht!$D$5=\"\",IF(Übersicht!$D$6=\"\",\"\",Übersicht!$D$6),Übersicht!$D$5),\"\")","v":""}]
[]
[7,null,null,null,{"$f":"IF(B14<>\"\",IF(Übersicht!$D$5=\"\",IF(Übersicht!$D$6=\"\",\"\",Übersicht!$D$6),Übersicht!$D$5),\"\")","v":""}]
[]
[8,null,null,null,{"$f":"IF(B16<>\"\",IF(Übersicht!$D$5=\"\",IF(Übersicht!$D$6=\"\",\"\",Übersicht!$D$6),Übersicht!$D$5),\"\")","v":""}]
[]
[9,null,null,null,{"$f":"IF(B18<>\"\",IF(Übersicht!$D$5=\"\",IF(Übersicht!$D$6=\"\",\"\",Übersicht!$D$6),Übersicht!$D$5),\"\")","v":""}]
[]
[10,null,null,null,{"$f":"IF(B20<>\"\",IF(Übersicht!$D$5=\"\",IF(Übersicht!$D$6=\"\",\"\",Übersicht!$D$6),Übersicht!$D$5),\"\")","v":""}]
[]
[11,null,null,null,{"$f":"IF(B22<>\"\",IF(Übersicht!$D$5=\"\",IF(Übersicht!$D$6=\"\",\"\",Übersicht!$D$6),Übersicht!$D$5),\"\")","v":""}]
[]
[12,null,null,null,{"$f":"IF(B24<>\"\",IF(Übersicht!$D$5=\"\",IF(Übersicht!$D$6=\"\",\"\",Übersicht!$D$6),Übersicht!$D$5),\"\")","v":""}]
[]
[13,null,null,null,{"$f":"IF(B26<>\"\",IF(Übersicht!$D$5=\"\",IF(Übersicht!$D$6=\"\",\"\",Übersicht!$D$6),Übersicht!$D$5),\"\")","v":""}]
[]
[14,null,null,null,{"$f":"IF(B28<>\"\",IF(Übersicht!$D$5=\"\",IF(Übersicht!$D$6=\"\",\"\",Übersicht!$D$6),Übersicht!$D$5),\"\")","v":""}]
[]
[15,null,null,null,{"$f":"IF(B30<>\"\",IF(Übersicht!$D$5=\"\",IF(Übersicht!$D$6=\"\",\"\",Übersicht!$D$6),Übersicht!$D$5),\"\")","v":""}]
[]
[16,null,null,null,{"$f":"IF(B32<>\"\",IF(Übersicht!$D$5=\"\",IF(Übersicht!$D$6=\"\",\"\",Übersicht!$D$6),Übersicht!$D$5),\"\")","v":""}]
[]
[17,null,null,null,{"$f":"IF(B34<>\"\",IF(Übersicht!$D$5=\"\",IF(Übersicht!$D$6=\"\",\"\",Übersicht!$D$6),Übersicht!$D$5),\"\")","v":""}]
[]
[18,null,null,null,{"$f":"IF(B36<>\"\",IF(Übersicht!$D$5=\"\",IF(Übersicht!$D$6=\"\",\"\",Übersicht!$D$6),Übersicht!$D$5),\"\")","v":""}]
[]
[19,null,null,null,{"$f":"IF(B38<>\"\",IF(Übersicht!$D$5=\"\",IF(Übersicht!$D$6=\"\",\"\",Übersicht!$D$6),Übersicht!$D$5),\"\")","v":""}]
[]
[20,null,null,null,{"$f":"IF(B40<>\"\",IF(Übersicht!$D$5=\"\",IF(Übersicht!$D$6=\"\",\"\",Übersicht!$D$6),Übersicht!$D$5),\"\")","v":""}]
[]
[21,null,null,null,{"$f":"IF(B42<>\"\",IF(Übersicht!$D$5=\"\",IF(Übersicht!$D$6=\"\",\"\",Übersicht!$D$6),Übersicht!$D$5),\"\")","v":""}]
[]
[22,null,null,null,{"$f":"IF(B44<>\"\",IF(Übersicht!$D$5=\"\",IF(Übersicht!$D$6=\"\",\"\",Übersicht!$D$6),Übersicht!$D$5),\"\")","v":""}]
[]
[23,null,null,null,{"$f":"IF(B46<>\"\",IF(Übersicht!$D$5=\"\",IF(Übersicht!$D$6=\"\",\"\",Übersicht!$D$6),Übersicht!$D$5),\"\")","v":""}]
[]
[24,null,null,null,{"$f":"IF(B48<>\"\",IF(Übersicht!$D$5=\"\",IF(Übersicht!$D$6=\"\",\"\",Übersicht!$D$6),Übersicht!$D$5),\"\")","v":""}]
[]
[25,null,null,null,{"$f":"IF(B50<>\"\",IF(Übersicht!$D$5=\"\",IF(Übersicht!$D$6=\"\",\"\",Übersicht!$D$6),Übersicht!$D$5),\"\")","v":""}]
[]
[26,null,null,null,{"$f":"IF(B52<>\"\",IF(Übersicht!$D$5=\"\",IF(Übersicht!$D$6=\"\",\"\",Übersicht!$D$6),Übersicht!$D$5),\"\")","v":""}]
[]
[27,null,null,null,{"$f":"IF(B54<>\"\",IF(Übersicht!$D$5=\"\",IF(Übersicht!$D$6=\"\",\"\",Übersicht!$D$6),Übersicht!$D$5),\"\")","v":""}]
[]
[28,null,null,null,{"$f":"IF(B56<>\"\",IF(Übersicht!$D$5=\"\",IF(Übersicht!$D$6=\"\",\"\",Übersicht!$D$6),Übersicht!$D$5),\"\")","v":""}]
[]
[29,null,null,null,{"$f":"IF(B58<>\"\",IF(Übersicht!$D$5=\"\",IF(Übersicht!$D$6=\"\",\"\",Übersicht!$D$6),Übersicht!$D$5),\"\")","v":""}]
[]
[30,null,null,null,{"$f":"IF(B60<>\"\",IF(Übersicht!$D$5=\"\",IF(Übersicht!$D$6=\"\",\"\",Übersicht!$D$6),Übersicht!$D$5),\"\")","v":""}]
[]
[31,null,null,null,{"$f":"IF(B62<>\"\",IF(Übersicht!$D$5=\"\",IF(Übersicht!$D$6=\"\",\"\",Übersicht!$D$6),Übersicht!$D$5),\"\")","v":""}]
[]
[32,null,null,null,{"$f":"IF(B64<>\"\",IF(Übersicht!$D$5=\"\",IF(Übersicht!$D$6=\"\",\"\",Übersicht!$D$6),Übersicht!$D$5),\"\")","v":""}]
[]
[33,null,null,null,{"$f":"IF(B66<>\"\",IF(Übersicht!$D$5=\"\",IF(Übersicht!$D$6=\"\",\"\",Übersicht!$D$6),Übersicht!$D$5),\"\")","v":""}]
[]
[34,null,null,null,{"$f":"IF(B68<>\"\",IF(Übersicht!$D$5=\"\",IF(Übersicht!$D$6=\"\",\"\",Übersicht!$D$6),Übersicht!$D$5),\"\")","v":""}]
[]
[35,null,null,null,{"$f":"IF(B70<>\"\",IF(Übersicht!$D$5=\"\",IF(Übersicht!$D$6=\"\",\"\",Übersicht!$D$6),Übersicht!$D$5),\"\")","v":""}]
[]
[36,null,null,null,{"$f":"IF(B72<>\"\",IF(Übersicht!$D$5=\"\",IF(Übersicht!$D$6=\"\",\"\",Übersicht!$D$6),Übersicht!$D$5),\"\")","v":""}]
[]
[37,null,null,null,{"$f":"IF(B74<>\"\",IF(Übersicht!$D$5=\"\",IF(Übersicht!$D$6=\"\",\"\",Übersicht!$D$6),Übersicht!$D$5),\"\")","v":""}]
[]
[38,null,null,null,{"$f":"IF(B76<>\"\",IF(Übersicht!$D$5=\"\",IF(Übersicht!$D$6=\"\",\"\",Übersicht!$D$6),Übersicht!$D$5),\"\")","v":""}]
[]
[39,null,null,null,{"$f":"IF(B78<>\"\",IF(Übersicht!$D$5=\"\",IF(Übersicht!$D$6=\"\",\"\",Übersicht!$D$6),Übersicht!$D$5),\"\")","v":""}]
[]
[40,null,null,null,{"$f":"IF(B80<>\"\",IF(Übersicht!$D$5=\"\",IF(Übersicht!$D$6=\"\",\"\",Übersicht!$D$6),Übersicht!$D$5),\"\")","v":""}]
[]
[41,null,null,null,{"$f":"IF(B82<>\"\",IF(Übersicht!$D$5=\"\",IF(Übersicht!$D$6=\"\",\"\",Übersicht!$D$6),Übersicht!$D$5),\"\")","v":""}]
[]
[42,null,null,null,{"$f":"IF(B84<>\"\",IF(Übersicht!$D$5=\"\",IF(Übersicht!$D$6=\"\",\"\",Übersicht!$D$6),Übersicht!$D$5),\"\")","v":""}]
[]
[43,null,null,null,{"$f":"IF(B86<>\"\",IF(Übersicht!$D$5=\"\",IF(Übersicht!$D$6=\"\",\"\",Übersicht!$D$6),Übersicht!$D$5),\"\")","v":""}]
[]
[44,null,null,null,{"$f":"IF(B88<>\"\",IF(Übersicht!$D$5=\"\",IF(Übersicht!$D$6=\"\",\"\",Übersicht!$D$6),Übersicht!$D$5),\"\")","v":""}]
[]
[45,null,null,null,{"$f":"IF(B90<>\"\",IF(Übersicht!$D$5=\"\",IF(Übersicht!$D$6=\"\",\"\",Übersicht!$D$6),Übersicht!$D$5),\"\")","v":""}]
[]
[46,null,null,null,{"$f":"IF(B92<>\"\",IF(Übersicht!$D$5=\"\",IF(Übersicht!$D$6=\"\",\"\",Übersicht!$D$6),Übersicht!$D$5),\"\")","v":""}]
[]
[47,null,null,null,{"$f":"IF(B94<>\"\",IF(Übersicht!$D$5=\"\",IF(Übersicht!$D$6=\"\",\"\",Übersicht!$D$6),Übersicht!$D$5),\"\")","v":""}]
[]
[48,null,null,null,{"$f":"IF(B96<>\"\",IF(Übersicht!$D$5=\"\",IF(Übersicht!$D$6=\"\",\"\",Übersicht!$D$6),Übersicht!$D$5),\"\")","v":""}]
[]
[49,null,null,null,{"$f":"IF(B98<>\"\",IF(Übersicht!$D$5=\"\",IF(Übersicht!$D$6=\"\",\"\",Übersicht!$D$6),Übersicht!$D$5),\"\")","v":""}]
[]
[50,null,null,null,{"$f":"IF(B100<>\"\",IF(Übersicht!$D$5=\"\",IF(Übersicht!$D$6=\"\",\"\",Übersicht!$D$6),Übersicht!$D$5),\"\")","v":""}]

{"sheet":"Newaza","index":3,"n_rows":51,"n_cols":8,"rows_kept":51,"cut":false,"hidden":false,"merged":[]}
["Nr.","Name","Vorname","Jahrgang","Gewicht","Verein","Geschlecht","Klasse"]
[1,null,null,null,null,{"$f":"IF(B2<>\"\",IF(Übersicht!$D$5=\"\",IF(Übersicht!$D$6=\"\",\"\",Übersicht!$D$6),Übersicht!$D$5),\"\")","v":""}]
[2,null,null,null,null,{"$f":"IF(B3<>\"\",IF(Übersicht!$D$5=\"\",IF(Übersicht!$D$6=\"\",\"\",Übersicht!$D$6),Übersicht!$D$5),\"\")","v":""}]
[3,null,null,null,null,{"$f":"IF(B4<>\"\",IF(Übersicht!$D$5=\"\",IF(Übersicht!$D$6=\"\",\"\",Übersicht!$D$6),Übersicht!$D$5),\"\")","v":""}]
[4,null,null,null,null,{"$f":"IF(B5<>\"\",IF(Übersicht!$D$5=\"\",IF(Übersicht!$D$6=\"\",\"\",Übersicht!$D$6),Übersicht!$D$5),\"\")","v":""}]
[5,null,null,null,null,{"$f":"IF(B6<>\"\",IF(Übersicht!$D$5=\"\",IF(Übersicht!$D$6=\"\",\"\",Übersicht!$D$6),Übersicht!$D$5),\"\")","v":""}]
[6,null,null,null,null,{"$f":"IF(B7<>\"\",IF(Übersicht!$D$5=\"\",IF(Übersicht!$D$6=\"\",\"\",Übersicht!$D$6),Übersicht!$D$5),\"\")","v":""}]
[7,null,null,null,null,{"$f":"IF(B8<>\"\",IF(Übersicht!$D$5=\"\",IF(Übersicht!$D$6=\"\",\"\",Übersicht!$D$6),Übersicht!$D$5),\"\")","v":""}]
[8,null,null,null,null,{"$f":"IF(B9<>\"\",IF(Übersicht!$D$5=\"\",IF(Übersicht!$D$6=\"\",\"\",Übersicht!$D$6),Übersicht!$D$5),\"\")","v":""}]
[9,null,null,null,null,{"$f":"IF(B10<>\"\",IF(Übersicht!$D$5=\"\",IF(Übersicht!$D$6=\"\",\"\",Übersicht!$D$6),Übersicht!$D$5),\"\")","v":""}]
[10,null,null,null,null,{"$f":"IF(B11<>\"\",IF(Übersicht!$D$5=\"\",IF(Übersicht!$D$6=\"\",\"\",Übersicht!$D$6),Übersicht!$D$5),\"\")","v":""}]
[11,null,null,null,null,{"$f":"IF(B12<>\"\",IF(Übersicht!$D$5=\"\",IF(Übersicht!$D$6=\"\",\"\",Übersicht!$D$6),Übersicht!$D$5),\"\")","v":""}]
[12,null,null,null,null,{"$f":"IF(B13<>\"\",IF(Übersicht!$D$5=\"\",IF(Übersicht!$D$6=\"\",\"\",Übersicht!$D$6),Übersicht!$D$5),\"\")","v":""}]
[13,null,null,null,null,{"$f":"IF(B14<>\"\",IF(Übersicht!$D$5=\"\",IF(Übersicht!$D$6=\"\",\"\",Übersicht!$D$6),Übersicht!$D$5),\"\")","v":""}]
[14,null,null,null,null,{"$f":"IF(B15<>\"\",IF(Übersicht!$D$5=\"\",IF(Übersicht!$D$6=\"\",\"\",Übersicht!$D$6),Übersicht!$D$5),\"\")","v":""}]
[15,null,null,null,null,{"$f":"IF(B16<>\"\",IF(Übersicht!$D$5=\"\",IF(Übersicht!$D$6=\"\",\"\",Übersicht!$D$6),Übersicht!$D$5),\"\")","v":""}]
[16,null,null,null,null,{"$f":"IF(B17<>\"\",IF(Übersicht!$D$5=\"\",IF(Übersicht!$D$6=\"\",\"\",Übersicht!$D$6),Übersicht!$D$5),\"\")","v":""}]
[17,null,null,null,null,{"$f":"IF(B18<>\"\",IF(Übersicht!$D$5=\"\",IF(Übersicht!$D$6=\"\",\"\",Übersicht!$D$6),Übersicht!$D$5),\"\")","v":""}]
[18,null,null,null,null,{"$f":"IF(B19<>\"\",IF(Übersicht!$D$5=\"\",IF(Übersicht!$D$6=\"\",\"\",Übersicht!$D$6),Übersicht!$D$5),\"\")","v":""}]
[19,null,null,null,null,{"$f":"IF(B20<>\"\",IF(Übersicht!$D$5=\"\",IF(Übersicht!$D$6=\"\",\"\",Übersicht!$D$6),Übersicht!$D$5),\"\")","v":""}]
[20,null,null,null,null,{"$f":"IF(B21<>\"\",IF(Übersicht!$D$5=\"\",IF(Übersicht!$D$6=\"\",\"\",Übersicht!$D$6),Übersicht!$D$5),\"\")","v":""}]
[21,null,null,null,null,{"$f":"IF(B22<>\"\",IF(Übersicht!$D$5=\"\",IF(Übersicht!$D$6=\"\",\"\",Übersicht!$D$6),Übersicht!$D$5),\"\")","v":""}]
[22,null,null,null,null,{"$f":"IF(B23<>\"\",IF(Übersicht!$D$5=\"\",IF(Übersicht!$D$6=\"\",\"\",Übersicht!$D$6),Übersicht!$D$5),\"\")","v":""}]
[23,null,null,null,null,{"$f":"IF(B24<>\"\",IF(Übersicht!$D$5=\"\",IF(Übersicht!$D$6=\"\",\"\",Übersicht!$D$6),Übersicht!$D$5),\"\")","v":""}]
[24,null,null,null,null,{"$f":"IF(B25<>\"\",IF(Übersicht!$D$5=\"\",IF(Übersicht!$D$6=\"\",\"\",Übersicht!$D$6),Übersicht!$D$5),\"\")","v":""}]
[25,null,null,null,null,{"$f":"IF(B26<>\"\",IF(Übersicht!$D$5=\"\",IF(Übersicht!$D$6=\"\",\"\",Übersicht!$D$6),Übersicht!$D$5),\"\")","v":""}]
[26,null,null,null,null,{"$f":"IF(B27<>\"\",IF(Übersicht!$D$5=\"\",IF(Übersicht!$D$6=\"\",\"\",Übersicht!$D$6),Übersicht!$D$5),\"\")","v":""}]
[27,null,null,null,null,{"$f":"IF(B28<>\"\",IF(Übersicht!$D$5=\"\",IF(Übersicht!$D$6=\"\",\"\",Übersicht!$D$6),Übersicht!$D$5),\"\")","v":""}]
[28,null,null,null,null,{"$f":"IF(B29<>\"\",IF(Übersicht!$D$5=\"\",IF(Übersicht!$D$6=\"\",\"\",Übersicht!$D$6),Übersicht!$D$5),\"\")","v":""}]
[29,null,null,null,null,{"$f":"IF(B30<>\"\",IF(Übersicht!$D$5=\"\",IF(Übersicht!$D$6=\"\",\"\",Übersicht!$D$6),Übersicht!$D$5),\"\")","v":""}]
[30,null,null,null,null,{"$f":"IF(B31<>\"\",IF(Übersicht!$D$5=\"\",IF(Übersicht!$D$6=\"\",\"\",Übersicht!$D$6),Übersicht!$D$5),\"\")","v":""}]
[31,null,null,null,null,{"$f":"IF(B32<>\"\",IF(Übersicht!$D$5=\"\",IF(Übersicht!$D$6=\"\",\"\",Übersicht!$D$6),Übersicht!$D$5),\"\")","v":""}]
[32,null,null,null,null,{"$f":"IF(B33<>\"\",IF(Übersicht!$D$5=\"\",IF(Übersicht!$D$6=\"\",\"\",Übersicht!$D$6),Übersicht!$D$5),\"\")","v":""}]
[33,null,null,null,null,{"$f":"IF(B34<>\"\",IF(Übersicht!$D$5=\"\",IF(Übersicht!$D$6=\"\",\"\",Übersicht!$D$6),Übersicht!$D$5),\"\")","v":""}]
[34,null,null,null,null,{"$f":"IF(B35<>\"\",IF(Übersicht!$D$5=\"\",IF(Übersicht!$D$6=\"\",\"\",Übersicht!$D$6),Übersicht!$D$5),\"\")","v":""}]
[35,null,null,null,null,{"$f":"IF(B36<>\"\",IF(Übersicht!$D$5=\"\",IF(Übersicht!$D$6=\"\",\"\",Übersicht!$D$6),Übersicht!$D$5),\"\")","v":""}]
[36,null,null,null,null,{"$f":"IF(B37<>\"\",IF(Übersicht!$D$5=\"\",IF(Übersicht!$D$6=\"\",\"\",Übersicht!$D$6),Übersicht!$D$5),\"\")","v":""}]
[37,null,null,null,null,{"$f":"IF(B38<>\"\",IF(Übersicht!$D$5=\"\",IF(Übersicht!$D$6=\"\",\"\",Übersicht!$D$6),Übersicht!$D$5),\"\")","v":""}]
[38,null,null,null,null,{"$f":"IF(B39<>\"\",IF(Übersicht!$D$5=\"\",IF(Übersicht!$D$6=\"\",\"\",Übersicht!$D$6),Übersicht!$D$5),\"\")","v":""}]
[39,null,null,null,null,{"$f":"IF(B40<>\"\",IF(Übersicht!$D$5=\"\",IF(Übersicht!$D$6=\"\",\"\",Übersicht!$D$6),Übersicht!$D$5),\"\")","v":""}]
[40,null,null,null,null,{"$f":"IF(B41<>\"\",IF(Übersicht!$D$5=\"\",IF(Übersicht!$D$6=\"\",\"\",Übersicht!$D$6),Übersicht!$D$5),\"\")","v":""}]
[41,null,null,null,null,{"$f":"IF(B42<>\"\",IF(Übersicht!$D$5=\"\",IF(Übersicht!$D$6=\"\",\"\",Übersicht!$D$6),Übersicht!$D$5),\"\")","v":""}]
[42,null,null,null,null,{"$f":"IF(B43<>\"\",IF(Übersicht!$D$5=\"\",IF(Übersicht!$D$6=\"\",\"\",Übersicht!$D$6),Übersicht!$D$5),\"\")","v":""}]
[43,null,null,null,null,{"$f":"IF(B44<>\"\",IF(Übersicht!$D$5=\"\",IF(Übersicht!$D$6=\"\",\"\",Übersicht!$D$6),Übersicht!$D$5),\"\")","v":""}]
[44,null,null,null,null,{"$f":"IF(B45<>\"\",IF(Übersicht!$D$5=\"\",IF(Übersicht!$D$6=\"\",\"\",Übersicht!$D$6),Übersicht!$D$5),\"\")","v":""}]
[45,null,null,null,null,{"$f":"IF(B46<>\"\",IF(Übersicht!$D$5=\"\",IF(Übersicht!$D$6=\"\",\"\",Übersicht!$D$6),Übersicht!$D$5),\"\")","v":""}]
[46,null,null,null,null,{"$f":"IF(B47<>\"\",IF(Übersicht!$D$5=\"\",IF(Übersicht!$D$6=\"\",\"\",Übersicht!$D$6),Übersicht!$D$5),\"\")","v":""}]
[47,null,null,null,null,{"$f":"IF(B48<>\"\",IF(Übersicht!$D$5=\"\",IF(Übersicht!$D$6=\"\",\"\",Übersicht!$D$6),Übersicht!$D$5),\"\")","v":""}]
[48,null,null,null,null,{"$f":"IF(B49<>\"\",IF(Übersicht!$D$5=\"\",IF(Übersicht!$D$6=\"\",\"\",Übersicht!$D$6),Übersicht!$D$5),\"\")","v":""}]
[49,null,null,null,null,{"$f":"IF(B50<>\"\",IF(Übersicht!$D$5=\"\",IF(Übersicht!$D$6=\"\",\"\",Übersicht!$D$6),Übersicht!$D$5),\"\")","v":""}]
[50,null,null,null,null,{"$f":"IF(B51<>\"\",IF(Übersicht!$D$5=\"\",IF(Übersicht!$D$6=\"\",\"\",Übersicht!$D$6),Übersicht!$D$5),\"\")","v":""}]

{"sheet":"Codestable","index":4,"n_rows":256,"n_cols":6,"rows_kept":256,"cut":false,"hidden":true,"merged":[]}
["Geschlecht","Teamart","Vereine",null,null,"Newa"]
["M","M",null,null,null,"u18"]
["W","W","1. AJJC Nürnberg",226,null,"Beginner"]
[null,"X","1. BC Bechtheim",211,null,"Elite"]
[null,null,"1. JC Samurai Offenbach",2]
[null,null,"1. JC Worms",209]
[null,null,"1. JJC Frankenthal",206]
[null,null,"1. JJJC-Dortmund",167]
[null,null,"1. JJV Bernau",3]
[null,null,"1. JJV Schönebeck",4]
[null,null,"1. Mannheimer JC",120]
[null,null,"1. PJC Schifferstadt",204]
[null,null,"1. Sprendlinger JV",5]
[null,null,"1. Zwickauer SV",249]
[null,null,"1.Chemnitzer JJV",159]
[null,null,"AC Altrip",205]
[null,null,"AC Taucha",148]
[null,null,"Albstädter Budo Club",221]
[null,null,"Arashi Sindelfingen",6]
[null,null,"ASV Bingen",186]
[null,null,"ASV Grassau",227]
[null,null,"ASV Kiefersfelden",228]
[null,null,"ATSV Freiberg",158]
[null,null,"ATSV Kronach",116]
[null,null,"BC Arolsen",7]
[null,null,"BC Berlin",10]
[null,null,"BC Betzdorf",192]
[null,null,"BC Biedenkopf",259]
[null,null,"BC Emmertsgrund",222]
[null,null,"BC Hemsbach",223]
[null,null,"BC Hikari Laufen",8]
[null,null,"BC Mainz 06",179]
[null,null,"BC Sinsheim",9]
[null,null,"BC Walldorf",119]
[null,null,"BC Westrich Landstuhl",196]
[null,null,"BGSV Weimar",217]
[null,null,"BS Herdorf",193]
[null,null,"BS Yamato Hürth",11]
[null,null,"BSC Bushido-Ryu Gelsenkirchen",12]
[null,null,"BSC Peine",124]
[null,null,"BSV Leese",13]
[null,null,"Budo Circle Konstanz",122]
[null,null,"Budoclub Offenburg",224]
[null,null,"Budokan Braunschweig",237]
[null,null,"Budokan Großbeeren",160]
[null,null,"Budokwai Schwäbisch Hall",123]
[null,null,"Budokwai Steinheim",255]
[null,null,"Budokwai Öhringen",256]
[null,null,"Budosport-Gelderland",236]
[null,null,"Budoverein Oelsnitz",216]
[null,null,"Bushido Erlensee",69]
[null,null,"BZ Rottweil",14]
[null,null,"Crocodiles Osnabrück",136]
[null,null,"Dokan Bühl",15]
[null,null,"DTB Delmenhorst",139]
[null,null,"DTV Delmenhorst",138]
[null,null,"Einbecker JC",16]
[null,null,"ESV Ludwigshafen",198]
[null,null,"ESV München",229]
[null,null,"Fight for Life Konstanz",225]
[null,null,"FT Jahn Landsberg",17]
[null,null,"Funkstreife München",18]
[null,null,"FZC Philippsburg",19]
[null,null,"Holter SV",21]
[null,null,"HSG Turbine Zittau",250]
[null,null,"HSV Stöckte",132]
[null,null,"JC Bietigheim",22]
[null,null,"JC Burg",154]
[null,null,"JC Bushido Delmenhorst",140]
[null,null,"JC Bushido Wüstems",260]
[null,null,"JC Duderstadt",238]
[null,null,"JC Erbach",23]
[null,null,"JC Ford Saarlouis",247]
[null,null,"JC Frankenthal",207]
[null,null,"JC Hofheim",24]
[null,null,"JC Lichtenrade",234]
[null,null,"JC Limburg",25]
[null,null,"JC Malstatt",26]
[null,null,"JC Pforzheim",27]
[null,null,"JC Riestedt",239]
[null,null,"JC Stegen",28]
[null,null,"JC Velen-Reken",29]
[null,null,"JC Wetzlar",30]
[null,null,"JC Wiesbaden",31]
[null,null,"JC Wörrstadt",185]
[null,null,"Jitoku Neudietendorf",161]
[null,null,"JJ Fusegi Kröv",177]
[null,null,"JJ Gochsheim",113]
[null,null,"JJ Herzogenaurach",32]
[null,null,"JJ KSV Rastatt",33]
[null,null,"JJ Rosenheim",34]
[null,null,"JJ Straubing",36]
[null,null,"JJ Tigers-Hutthurm",37]
[null,null,"JJ-HS RWTH/FH Aachen",168]
[null,null,"JJC Boppard",188]
[null,null,"JJC Mühlbachtal",38]
[null,null,"JJC Offenbach",214]
[null,null,"JJC Peine",125]
[null,null,"JJC Rodach",118]
[null,null,"JJC Tanaka Rieden",191]
[null,null,"JJJC Mendig ",190]
[null,null,"JJJV Daaden",194]
[null,null,"JJSC Wallersdorf",39]
[null,null,"JJT Rostock",40]
[null,null,"JKCS Goslar",42]
[null,null,"JSV Ludwigshafen",202]
[null,null,"Ju-Jutsu Julbach",230]
[null,null,"Ju-Jutsu St. Wendel",174]
[null,null,"JV Siegerland",43]
[null,null,"JVH Hannover",240]
[null,null,"Kampfkunst Bodetal",218]
[null,null,"Kampfkunst Michelstadt",165]
[null,null,"Karigane Bamberg",44]
[null,null,"Kodokan Ditzingen",257]
[null,null,"Kodokan Erfurt",253]
[null,null,"Kodokan Norderstedt",45]
[null,null,"Kolpingfamilie Kell am See",175]
[null,null,"KS Lüneburg",46]
[null,null,"KS Meppen",141]
[null,null,"KSC Amberg",47]
[null,null,"KSC Hanau",215]
[null,null,"KSG Naumburg",150]
[null,null,"KSG Ran",48]
[null,null,"KSG Zeitz",1]
[null,null,"KSV Walldorf",50]
[null,null,"Leinefelder JJV",156]
[null,null,"LKS Gerolzhofen",51]
[null,null,"Lübecker JC",52]
[null,null,"MTV Goslar",126]
[null,null,"MTV Ramelsloh",135]
[null,null,"MTV Rottorf",53]
[null,null,"MTV Schöningen",127]
[null,null,"MTV Stadeln",231]
[null,null,"MTV Vorsfelde",128]
[null,null,"MTV Wolfenbüttel",241]
[null,null,"OKK Neustadt",129]
[null,null,"OT Bremen",54]
[null,null,"Post SV Ludwigshafen",200]
[null,null,"Post SV Mainz",178]
[null,null,"Post SV Nürnberg",56]
[null,null,"PSV Aschersleben",146]
[null,null,"PSV Basdorf",57]
[null,null,"PSV Bernburg",58]
[null,null,"PSV Bielefeld",169]
[null,null,"PSV Braunschweig",59]
[null,null,"PSV GW Kassel",61]
[null,null,"PSV Hohenstein Ernstthal",151]
[null,null,"PSV Kamenz",149]
[null,null,"PSV Karlsruhe",121]
[null,null,"PSV Lippe-Detmold",60]
[null,null,"PSV Ludwigshafen",199]
[null,null,"PSV Magdeburg",251]
[null,null,"PSV Mainz",180]
[null,null,"PSV Meiningen",63]
[null,null,"PSV Oldenburg",64]
[null,null,"PSV Saarbrücken",173]
[null,null,"PSV Wanzleben",152]
[null,null,"PSV Wengerohr",176]
[null,null,"PSV Wiesbaden",62]
[null,null,"PSV Wuppertal",65]
[null,null,"Rurberger SV",66]
[null,null,"Samurai Lichtenau",67]
[null,null,"SC Budokan Bocholt",68]
[null,null,"SC Bushido Frankfurt",70]
[null,null,"SC Essehof",71]
[null,null,"SC Hannover",242]
[null,null,"SC Ibersheim",210]
[null,null,"SC Schweinfurth",115]
[null,null,"Seibukan Berlin",72]
[null,null,"Seishin Weimar",254]
[null,null,"SG Blankenburg",153]
[null,null,"SG Essenheim",182]
[null,null,"SG Franken Sennfeld",117]
[null,null,"SG Kelkheim",164]
[null,null,"SG Rot-Weiß Neuenhagen",220]
[null,null,"Shintai Dojo",73]
[null,null,"Sportcenter Bushido Landau",213]
[null,null,"Sportschule Mayer LU",201]
[null,null,"SpSch Kappelmeyer",74]
[null,null,"SSV Hommertshausen",75]
[null,null,"Suum Cuique Mainz",181]
[null,null,"SV Eidelstedt",76]
[null,null,"SV Esting",77]
[null,null,"SV Furpach",248]
[null,null,"SV Gendorf Burgkirchen",78]
[null,null,"SV Groitzsch",147]
[null,null,"SV Ilmenau",79]
[null,null,"SV Krechting",170]
[null,null,"SV Menden",80]
[null,null,"SV Niederroth",81]
[null,null,"SV Oberdürrbach",82]
[null,null,"SV Polizei Hamburg",83]
[null,null,"SV Schorfheide",219]
[null,null,"SV Tennlohe",232]
[null,null,"SW Oldenburg",143]
[null,null,"TB Lengede",133]
[null,null,"TB Stöcken",243]
[null,null,"TG Hanau",84]
[null,null,"TG Höchberg",85]
[null,null,"TG Wiesmoor",144]
[null,null,"TKW Nienburg",86]
[null,null,"Tokio-Hirano Köln",87]
[null,null,"TPSV Enkenbach",212]
[null,null,"TSG Heilbronn",88]
[null,null,"TSV 1880 Schwandorf",90]
[null,null,"TSV Ahausen",134]
[null,null,"TSV Bergen",91]
[null,null,"TSV Burgebrach",92]
[null,null,"TSV Eberg",244]
[null,null,"TSV Egestorf",130]
[null,null,"TSV Elstorf",93]
[null,null,"TSV Freilassing",112]
[null,null,"TSV Lesse",94]
[null,null,"TSV Nördlingen",95]
[null,null,"TSV Posthausen",96]
[null,null,"TSV Ratekau",252]
[null,null,"TSV Rodenbach",162]
[null,null,"TSV Staffelstein",97]
[null,null,"TSV Weikersheim",98]
[null,null,"TSV Winsen",137]
[null,null,"TuS Apelern",131]
[null,null,"TuS Aurich Ost",99]
[null,null,"TuS Berne",100]
[null,null,"TuS Bloherfelde",142]
[null,null,"TuS Dotzheim",101]
[null,null,"TuS Durmersheim",102]
[null,null,"TuS Ehrentrup",171]
[null,null,"TuS Finkenwerder",103]
[null,null,"TuS Oggersheim  ",203]
[null,null,"TuS Wallmerod",189]
[null,null,"TV 1863 Pirmasens  ",197]
[null,null,"TV 1868 Burghausen",89]
[null,null,"TV 1868 Burghausen",104]
[null,null,"TV 1879 Hilpoltstein",105]
[null,null,"TV 87 Stadtoldendorf",106]
[null,null,"TV Bad Mergentheim",258]
[null,null,"TV Dienheim",183]
[null,null,"TV Eiche Horn Bremen",235]
[null,null,"TV Einigkeit Waltrop",107]
[null,null,"TV Gladenbach",166]
[null,null,"TV Hersfeld",261]
[null,null,"TV Kirchheimbolanden",208]
[null,null,"TV Neugablonz",114]
[null,null,"TV Nieder-Olm",184]
[null,null,"TV Paderborn",172]
[null,null,"TV Papenburg",109]
[null,null,"TV Zweibrücken",195]
[null,null,"TVG Mingerode",245]
[null,null,"USC Magdeburg",110]
[null,null,"USV Jena",155]
[null,null,"Vfl Bad Iburg",145]
[null,null,"VfL Bad Kreuznach",187]
[null,null,"VfL Westercelle",111]
[null,null,"VfL Wolfsburg",246]
[null,null,"WSV Aschau",233]
[null,null,"Yawara Meiningen",157]